BEGIN:VCALENDAR
VERSION:2.0
PRODID:-//Freedom Church of the Nazarene - ECPv6.15.20//NONSGML v1.0//EN
CALSCALE:GREGORIAN
METHOD:PUBLISH
X-WR-CALNAME:Freedom Church of the Nazarene
X-ORIGINAL-URL:https://freedomnazarene.org
X-WR-CALDESC:Events for Freedom Church of the Nazarene
REFRESH-INTERVAL;VALUE=DURATION:PT1H
X-Robots-Tag:noindex
X-PUBLISHED-TTL:PT1H
BEGIN:VTIMEZONE
TZID:America/Indiana/Indianapolis
BEGIN:DAYLIGHT
TZOFFSETFROM:-0500
TZOFFSETTO:-0400
TZNAME:EDT
DTSTART:20220313T070000
END:DAYLIGHT
BEGIN:STANDARD
TZOFFSETFROM:-0400
TZOFFSETTO:-0500
TZNAME:EST
DTSTART:20221106T060000
END:STANDARD
BEGIN:DAYLIGHT
TZOFFSETFROM:-0500
TZOFFSETTO:-0400
TZNAME:EDT
DTSTART:20230312T070000
END:DAYLIGHT
BEGIN:STANDARD
TZOFFSETFROM:-0400
TZOFFSETTO:-0500
TZNAME:EST
DTSTART:20231105T060000
END:STANDARD
BEGIN:DAYLIGHT
TZOFFSETFROM:-0500
TZOFFSETTO:-0400
TZNAME:EDT
DTSTART:20240310T070000
END:DAYLIGHT
BEGIN:STANDARD
TZOFFSETFROM:-0400
TZOFFSETTO:-0500
TZNAME:EST
DTSTART:20241103T060000
END:STANDARD
BEGIN:DAYLIGHT
TZOFFSETFROM:-0500
TZOFFSETTO:-0400
TZNAME:EDT
DTSTART:20250309T070000
END:DAYLIGHT
BEGIN:STANDARD
TZOFFSETFROM:-0400
TZOFFSETTO:-0500
TZNAME:EST
DTSTART:20251102T060000
END:STANDARD
END:VTIMEZONE
BEGIN:VEVENT
DTSTART;TZID=America/Indiana/Indianapolis:20240219T183000
DTEND;TZID=America/Indiana/Indianapolis:20240219T200000
DTSTAMP:20260424T230821
CREATED:20240105T112734Z
LAST-MODIFIED:20240105T112734Z
UID:3575-1708367400-1708372800@freedomnazarene.org
SUMMARY:Ladies' Night
DESCRIPTION:
URL:https://freedomnazarene.org/event/ladies-night-202402/
LOCATION:Family Life Center\, 5504 Jefferson Street\, Freedom\, IN\, 47431\, United States
END:VEVENT
BEGIN:VEVENT
DTSTART;TZID=America/Indiana/Indianapolis:20240203T080000
DTEND;TZID=America/Indiana/Indianapolis:20240203T093000
DTSTAMP:20260424T230821
CREATED:20240105T112656Z
LAST-MODIFIED:20240105T112656Z
UID:3576-1706947200-1706952600@freedomnazarene.org
SUMMARY:Men's Breakfast
DESCRIPTION:Join us the first Saturday of each month for good food and fellowship—and bring a friend!\n(This is a pitch-in breakfast.)
URL:https://freedomnazarene.org/event/mens-breakfast-202402/
LOCATION:Family Life Center\, 5504 Jefferson Street\, Freedom\, IN\, 47431\, United States
END:VEVENT
BEGIN:VEVENT
DTSTART;TZID=America/Indiana/Indianapolis:20240128T120000
DTEND;TZID=America/Indiana/Indianapolis:20240128T133000
DTSTAMP:20260424T230821
CREATED:20231022T152653Z
LAST-MODIFIED:20240128T152312Z
UID:3510-1706443200-1706448600@freedomnazarene.org
SUMMARY:Church Dinner
DESCRIPTION:
URL:https://freedomnazarene.org/event/church-dinner-202401/
LOCATION:Family Life Center\, 5504 Jefferson Street\, Freedom\, IN\, 47431\, United States
CATEGORIES:Canceled
END:VEVENT
BEGIN:VEVENT
DTSTART;TZID=America/Indiana/Indianapolis:20240115T183000
DTEND;TZID=America/Indiana/Indianapolis:20240115T200000
DTSTAMP:20260424T230821
CREATED:20231022T152809Z
LAST-MODIFIED:20240113T003436Z
UID:3512-1705343400-1705348800@freedomnazarene.org
SUMMARY:Ladies' Night
DESCRIPTION:
URL:https://freedomnazarene.org/event/ladies-night-202401/
LOCATION:Family Life Center\, 5504 Jefferson Street\, Freedom\, IN\, 47431\, United States
END:VEVENT
BEGIN:VEVENT
DTSTART;TZID=America/Indiana/Indianapolis:20231218T183000
DTEND;TZID=America/Indiana/Indianapolis:20231218T200000
DTSTAMP:20260424T230821
CREATED:20231022T152031Z
LAST-MODIFIED:20231022T152031Z
UID:3498-1702924200-1702929600@freedomnazarene.org
SUMMARY:Ladies' Night
DESCRIPTION:
URL:https://freedomnazarene.org/event/ladies-night-202312/
LOCATION:Family Life Center\, 5504 Jefferson Street\, Freedom\, IN\, 47431\, United States
END:VEVENT
BEGIN:VEVENT
DTSTART;TZID=America/Indiana/Indianapolis:20231120T183000
DTEND;TZID=America/Indiana/Indianapolis:20231120T200000
DTSTAMP:20260424T230821
CREATED:20231022T151914Z
LAST-MODIFIED:20231022T152045Z
UID:3496-1700505000-1700510400@freedomnazarene.org
SUMMARY:Ladies' Night
DESCRIPTION:
URL:https://freedomnazarene.org/event/ladies-night-202311/
LOCATION:Family Life Center\, 5504 Jefferson Street\, Freedom\, IN\, 47431\, United States
END:VEVENT
BEGIN:VEVENT
DTSTART;TZID=America/Indiana/Indianapolis:20231104T090000
DTEND;TZID=America/Indiana/Indianapolis:20231104T140000
DTSTAMP:20260424T230821
CREATED:20231029T143757Z
LAST-MODIFIED:20231029T143757Z
UID:3517-1699088400-1699106400@freedomnazarene.org
SUMMARY:Christmas Bazaar
DESCRIPTION:
URL:https://freedomnazarene.org/event/christmas-bazaar-2023/
LOCATION:Family Life Center\, 5504 Jefferson Street\, Freedom\, IN\, 47431\, United States
END:VEVENT
BEGIN:VEVENT
DTSTART;TZID=America/Indiana/Indianapolis:20231029T120000
DTEND;TZID=America/Indiana/Indianapolis:20231029T133000
DTSTAMP:20260424T230821
CREATED:20231022T151617Z
LAST-MODIFIED:20231022T151617Z
UID:3494-1698580800-1698586200@freedomnazarene.org
SUMMARY:Church Dinner
DESCRIPTION:
URL:https://freedomnazarene.org/event/church-dinner-202310/
LOCATION:Family Life Center\, 5504 Jefferson Street\, Freedom\, IN\, 47431\, United States
END:VEVENT
BEGIN:VEVENT
DTSTART;TZID=America/Indiana/Indianapolis:20231007T080000
DTEND;TZID=America/Indiana/Indianapolis:20231007T093000
DTSTAMP:20260424T230821
CREATED:20230723T144811Z
LAST-MODIFIED:20230723T144811Z
UID:3441-1696665600-1696671000@freedomnazarene.org
SUMMARY:Men's Breakfast
DESCRIPTION:Join us the first Saturday of each month for good food and fellowship—and bring a friend!\n(This is a pitch-in breakfast.)
URL:https://freedomnazarene.org/event/mens-breakfast-202310/
LOCATION:Family Life Center\, 5504 Jefferson Street\, Freedom\, IN\, 47431\, United States
END:VEVENT
BEGIN:VEVENT
DTSTART;TZID=America/Indiana/Indianapolis:20230924T120000
DTEND;TZID=America/Indiana/Indianapolis:20230924T133000
DTSTAMP:20260424T230821
CREATED:20230723T144954Z
LAST-MODIFIED:20230723T144954Z
UID:3445-1695556800-1695562200@freedomnazarene.org
SUMMARY:Church Dinner
DESCRIPTION:
URL:https://freedomnazarene.org/event/church-dinner-202309/
LOCATION:Family Life Center\, 5504 Jefferson Street\, Freedom\, IN\, 47431\, United States
END:VEVENT
BEGIN:VEVENT
DTSTART;VALUE=DATE:20230924
DTEND;VALUE=DATE:20230925
DTSTAMP:20260424T230821
CREATED:20230212T125650Z
LAST-MODIFIED:20230827T144931Z
UID:1341-1695513600-1695599999@freedomnazarene.org
SUMMARY:Alabaster Offering
DESCRIPTION:The Alabaster Offering provides funds for property and buildings around the world. While the church consists of the people of God and not a building\, buildings erected for the purpose of ministry help provide a sense of permanence\, functionally enhance ministry efforts\, and convey an attitude that the Church of the Nazarene intends to “put down roots.” Alabaster funds help provide land for many Work & Witness projects\, and the entire Alabaster Offering goes toward the purchase of land and construction of churches\, schools\, medical facilities\, and homes for missionaries and national workers?
URL:https://freedomnazarene.org/event/alabaster-offering-sept-2023/
LOCATION:Freedom Church of the Nazarene\, 5505 Jefferson Street\, Freedom\, IN\, 47431\, United States
ATTACH;FMTTYPE=image/jpeg:https://freedomnazarene.org/wp-content/uploads/2018/02/AlabasterBanner2-Print.jpg
END:VEVENT
BEGIN:VEVENT
DTSTART;TZID=America/Indiana/Indianapolis:20230918T183000
DTEND;TZID=America/Indiana/Indianapolis:20230918T200000
DTSTAMP:20260424T230821
CREATED:20230723T144843Z
LAST-MODIFIED:20230723T144843Z
UID:3443-1695061800-1695067200@freedomnazarene.org
SUMMARY:Ladies' Night
DESCRIPTION:
URL:https://freedomnazarene.org/event/ladies-night-202309/
LOCATION:Family Life Center\, 5504 Jefferson Street\, Freedom\, IN\, 47431\, United States
END:VEVENT
BEGIN:VEVENT
DTSTART;TZID=America/Indiana/Indianapolis:20230917T183000
DTEND;TZID=America/Indiana/Indianapolis:20230917T200000
DTSTAMP:20260424T230821
CREATED:20230827T144219Z
LAST-MODIFIED:20230827T144219Z
UID:3472-1694975400-1694980800@freedomnazarene.org
SUMMARY:Church Board Meeting
DESCRIPTION: 
URL:https://freedomnazarene.org/event/church-board-meeting-202309/
LOCATION:Freedom Church of the Nazarene\, 5505 Jefferson Street\, Freedom\, IN\, 47431\, United States
CATEGORIES:Church Board
END:VEVENT
BEGIN:VEVENT
DTSTART;TZID=America/Indiana/Indianapolis:20230902T080000
DTEND;TZID=America/Indiana/Indianapolis:20230902T150000
DTSTAMP:20260424T230821
CREATED:20230827T144113Z
LAST-MODIFIED:20230827T144113Z
UID:3470-1693641600-1693666800@freedomnazarene.org
SUMMARY:Yard Sale
DESCRIPTION:
URL:https://freedomnazarene.org/event/yard-sale-20230902/
LOCATION:Family Life Center\, 5504 Jefferson Street\, Freedom\, IN\, 47431\, United States
END:VEVENT
BEGIN:VEVENT
DTSTART;TZID=America/Indiana/Indianapolis:20230901T080000
DTEND;TZID=America/Indiana/Indianapolis:20230901T150000
DTSTAMP:20260424T230821
CREATED:20230827T144046Z
LAST-MODIFIED:20230827T144046Z
UID:3468-1693555200-1693580400@freedomnazarene.org
SUMMARY:Yard Sale
DESCRIPTION:
URL:https://freedomnazarene.org/event/yard-sale-20230901/
LOCATION:Family Life Center\, 5504 Jefferson Street\, Freedom\, IN\, 47431\, United States
END:VEVENT
BEGIN:VEVENT
DTSTART;TZID=America/Indiana/Indianapolis:20230831T090000
DTEND;TZID=America/Indiana/Indianapolis:20230831T140000
DTSTAMP:20260424T230821
CREATED:20230827T143913Z
LAST-MODIFIED:20230827T143935Z
UID:3466-1693472400-1693490400@freedomnazarene.org
SUMMARY:Yard Sale
DESCRIPTION:
URL:https://freedomnazarene.org/event/yard-sale-20230831/
LOCATION:Family Life Center\, 5504 Jefferson Street\, Freedom\, IN\, 47431\, United States
END:VEVENT
BEGIN:VEVENT
DTSTART;TZID=America/Indiana/Indianapolis:20230813T183000
DTEND;TZID=America/Indiana/Indianapolis:20230813T200000
DTSTAMP:20260424T230821
CREATED:20230723T144254Z
LAST-MODIFIED:20230723T144254Z
UID:3431-1691951400-1691956800@freedomnazarene.org
SUMMARY:Church Board Meeting
DESCRIPTION: 
URL:https://freedomnazarene.org/event/church-board-meeting-202308/
LOCATION:Freedom Church of the Nazarene\, 5505 Jefferson Street\, Freedom\, IN\, 47431\, United States
CATEGORIES:Church Board
END:VEVENT
BEGIN:VEVENT
DTSTART;TZID=America/Indiana/Indianapolis:20230805T080000
DTEND;TZID=America/Indiana/Indianapolis:20230805T093000
DTSTAMP:20260424T230821
CREATED:20230723T144422Z
LAST-MODIFIED:20230806T135712Z
UID:3435-1691222400-1691227800@freedomnazarene.org
SUMMARY:Men's Breakfast
DESCRIPTION:Join us the first Saturday of each month for good food and fellowship—and bring a friend!\n(This is a pitch-in breakfast.)
URL:https://freedomnazarene.org/event/mens-breakfast-20230805/
LOCATION:Family Life Center\, 5504 Jefferson Street\, Freedom\, IN\, 47431\, United States
ATTACH;FMTTYPE=image/jpeg:https://freedomnazarene.org/wp-content/uploads/2023/07/Mens-Breakfast-20230805.jpg
END:VEVENT
BEGIN:VEVENT
DTSTART;TZID=America/Indiana/Indianapolis:20230802T180000
DTEND;TZID=America/Indiana/Indianapolis:20230802T193000
DTSTAMP:20260424T230821
CREATED:20230730T143310Z
LAST-MODIFIED:20230730T143310Z
UID:3458-1690999200-1691004600@freedomnazarene.org
SUMMARY:Open Gym for Teens
DESCRIPTION:
URL:https://freedomnazarene.org/event/open-gym-20230802/
LOCATION:Family Life Center\, 5504 Jefferson Street\, Freedom\, IN\, 47431\, United States
END:VEVENT
BEGIN:VEVENT
DTSTART;TZID=America/Indiana/Indianapolis:20230730T120000
DTEND;TZID=America/Indiana/Indianapolis:20230730T133000
DTSTAMP:20260424T230821
CREATED:20230723T143944Z
LAST-MODIFIED:20230724T104636Z
UID:3429-1690718400-1690723800@freedomnazarene.org
SUMMARY:Church Dinner
DESCRIPTION:
URL:https://freedomnazarene.org/event/church-dinner-20230730/
LOCATION:Family Life Center\, 5504 Jefferson Street\, Freedom\, IN\, 47431\, United States
ATTACH;FMTTYPE=image/webp:https://freedomnazarene.org/wp-content/uploads/2023/07/ChurchDinner20230730.webp
END:VEVENT
BEGIN:VEVENT
DTSTART;TZID=America/Indiana/Indianapolis:20230726T180000
DTEND;TZID=America/Indiana/Indianapolis:20230726T193000
DTSTAMP:20260424T230821
CREATED:20230618T144516Z
LAST-MODIFIED:20230618T144516Z
UID:3416-1690394400-1690399800@freedomnazarene.org
SUMMARY:Open Gym for Teens
DESCRIPTION:
URL:https://freedomnazarene.org/event/open-gym-20230726/
LOCATION:Family Life Center\, 5504 Jefferson Street\, Freedom\, IN\, 47431\, United States
END:VEVENT
BEGIN:VEVENT
DTSTART;TZID=America/Indiana/Indianapolis:20230719T180000
DTEND;TZID=America/Indiana/Indianapolis:20230719T193000
DTSTAMP:20260424T230821
CREATED:20230618T144444Z
LAST-MODIFIED:20230618T144444Z
UID:3414-1689789600-1689795000@freedomnazarene.org
SUMMARY:Open Gym for Teens
DESCRIPTION:
URL:https://freedomnazarene.org/event/open-gym-20230719/
LOCATION:Family Life Center\, 5504 Jefferson Street\, Freedom\, IN\, 47431\, United States
END:VEVENT
BEGIN:VEVENT
DTSTART;TZID=America/Indiana/Indianapolis:20230717T183000
DTEND;TZID=America/Indiana/Indianapolis:20230717T200000
DTSTAMP:20260424T230821
CREATED:20230618T144038Z
LAST-MODIFIED:20230618T144101Z
UID:3408-1689618600-1689624000@freedomnazarene.org
SUMMARY:Ladies' Night
DESCRIPTION:
URL:https://freedomnazarene.org/event/ladies-night-20230717/
LOCATION:Family Life Center\, 5504 Jefferson Street\, Freedom\, IN\, 47431\, United States
END:VEVENT
BEGIN:VEVENT
DTSTART;TZID=America/Indiana/Indianapolis:20230712T180000
DTEND;TZID=America/Indiana/Indianapolis:20230712T193000
DTSTAMP:20260424T230821
CREATED:20230618T144418Z
LAST-MODIFIED:20230618T144418Z
UID:3412-1689184800-1689190200@freedomnazarene.org
SUMMARY:Open Gym for Teens
DESCRIPTION:
URL:https://freedomnazarene.org/event/open-gym-20230712/
LOCATION:Family Life Center\, 5504 Jefferson Street\, Freedom\, IN\, 47431\, United States
END:VEVENT
BEGIN:VEVENT
DTSTART;TZID=America/Indiana/Indianapolis:20230705T180000
DTEND;TZID=America/Indiana/Indianapolis:20230705T193000
DTSTAMP:20260424T230821
CREATED:20230618T144327Z
LAST-MODIFIED:20230618T144327Z
UID:3410-1688580000-1688585400@freedomnazarene.org
SUMMARY:Open Gym for Teens
DESCRIPTION:
URL:https://freedomnazarene.org/event/open-gym-20230705/
LOCATION:Family Life Center\, 5504 Jefferson Street\, Freedom\, IN\, 47431\, United States
END:VEVENT
BEGIN:VEVENT
DTSTART;TZID=America/Indiana/Indianapolis:20230701T080000
DTEND;TZID=America/Indiana/Indianapolis:20230701T093000
DTSTAMP:20260424T230821
CREATED:20230523T002809Z
LAST-MODIFIED:20230523T002809Z
UID:3371-1688198400-1688203800@freedomnazarene.org
SUMMARY:Men's Breakfast
DESCRIPTION:Join us the first Saturday of each month for good food and fellowship—and bring a friend!\n(This is a pitch-in breakfast.)
URL:https://freedomnazarene.org/event/mens-breakfast-20230701/
LOCATION:Family Life Center\, 5504 Jefferson Street\, Freedom\, IN\, 47431\, United States
END:VEVENT
BEGIN:VEVENT
DTSTART;TZID=America/Indiana/Indianapolis:20230628T180000
DTEND;TZID=America/Indiana/Indianapolis:20230628T193000
DTSTAMP:20260424T230821
CREATED:20230523T003204Z
LAST-MODIFIED:20230523T003237Z
UID:3374-1687975200-1687980600@freedomnazarene.org
SUMMARY:Open Gym for Teens
DESCRIPTION:
URL:https://freedomnazarene.org/event/open-gym-20230628/
LOCATION:Family Life Center\, 5504 Jefferson Street\, Freedom\, IN\, 47431\, United States
END:VEVENT
BEGIN:VEVENT
DTSTART;TZID=America/Indiana/Indianapolis:20230625T120000
DTEND;TZID=America/Indiana/Indianapolis:20230625T133000
DTSTAMP:20260424T230821
CREATED:20230522T235958Z
LAST-MODIFIED:20230723T144148Z
UID:3365-1687694400-1687699800@freedomnazarene.org
SUMMARY:Church Dinner
DESCRIPTION:
URL:https://freedomnazarene.org/event/church-dinner-20230625/
LOCATION:Family Life Center\, 5504 Jefferson Street\, Freedom\, IN\, 47431\, United States
END:VEVENT
BEGIN:VEVENT
DTSTART;TZID=America/Indiana/Indianapolis:20230621T180000
DTEND;TZID=America/Indiana/Indianapolis:20230621T200000
DTSTAMP:20260424T230821
CREATED:20230326T162021Z
LAST-MODIFIED:20230423T145348Z
UID:3322-1687370400-1687377600@freedomnazarene.org
SUMMARY:Vacation Bible School
DESCRIPTION:Stellar VBS 2023 \nParents\, send your kids on an out-of-this-world adventure! At Stellar VBS\, kids shine Jesus’s light! Stellar is filled with awesome Bible-learning experiences kids see\, hear\, and touch. Hands-on crafts\, team-building games\, unforgettable Bible songs\, and tasty treats are just a few of the standout activities that help faith flow into real life. Plus\, we’ll help kids discover how to see evidence of God in everyday life—something we call God Sightings. Get ready to hear that phrase a lot! Since everything is hands-on\, kids might get a little messy. Be sure to send them in play clothes and sturdy shoes.\nThe fun starts at 6:00 P.M. and ends around 8:15 P.M. each evening. This program is designed for children age 3 through Grade 6 (grade just completed).\nRegister your child at the link below:\nhttps://vbsmate.com/students/FreedomNazarene/26982
URL:https://freedomnazarene.org/event/vacation-bible-school-2023-03/
LOCATION:Freedom Church of the Nazarene\, 5505 Jefferson Street\, Freedom\, IN\, 47431\, United States
ATTACH;FMTTYPE=image/jpeg:https://freedomnazarene.org/wp-content/uploads/2023/03/VBS-2023.jpg
END:VEVENT
BEGIN:VEVENT
DTSTART;TZID=America/Indiana/Indianapolis:20230620T180000
DTEND;TZID=America/Indiana/Indianapolis:20230620T200000
DTSTAMP:20260424T230821
CREATED:20230326T161934Z
LAST-MODIFIED:20230423T145311Z
UID:3321-1687284000-1687291200@freedomnazarene.org
SUMMARY:Vacation Bible School
DESCRIPTION:Stellar VBS 2023 \nParents\, send your kids on an out-of-this-world adventure! At Stellar VBS\, kids shine Jesus’s light! Stellar is filled with awesome Bible-learning experiences kids see\, hear\, and touch. Hands-on crafts\, team-building games\, unforgettable Bible songs\, and tasty treats are just a few of the standout activities that help faith flow into real life. Plus\, we’ll help kids discover how to see evidence of God in everyday life—something we call God Sightings. Get ready to hear that phrase a lot! Since everything is hands-on\, kids might get a little messy. Be sure to send them in play clothes and sturdy shoes.\nThe fun starts at 6:00 P.M. and ends around 8:15 P.M. each evening. This program is designed for children age 3 through Grade 6 (grade just completed).\nRegister your child at the link below:\nhttps://vbsmate.com/students/FreedomNazarene/26982
URL:https://freedomnazarene.org/event/vacation-bible-school-2023-02/
LOCATION:Freedom Church of the Nazarene\, 5505 Jefferson Street\, Freedom\, IN\, 47431\, United States
ATTACH;FMTTYPE=image/jpeg:https://freedomnazarene.org/wp-content/uploads/2023/03/VBS-2023.jpg
END:VEVENT
END:VCALENDAR