BEGIN:VCALENDAR
VERSION:2.0
PRODID:-//Freedom Church of the Nazarene - ECPv6.15.20//NONSGML v1.0//EN
CALSCALE:GREGORIAN
METHOD:PUBLISH
X-ORIGINAL-URL:https://freedomnazarene.org
X-WR-CALDESC:Events for Freedom Church of the Nazarene
REFRESH-INTERVAL;VALUE=DURATION:PT1H
X-Robots-Tag:noindex
X-PUBLISHED-TTL:PT1H
BEGIN:VTIMEZONE
TZID:America/Indiana/Indianapolis
BEGIN:DAYLIGHT
TZOFFSETFROM:-0500
TZOFFSETTO:-0400
TZNAME:EDT
DTSTART:20240310T070000
END:DAYLIGHT
BEGIN:STANDARD
TZOFFSETFROM:-0400
TZOFFSETTO:-0500
TZNAME:EST
DTSTART:20241103T060000
END:STANDARD
BEGIN:DAYLIGHT
TZOFFSETFROM:-0500
TZOFFSETTO:-0400
TZNAME:EDT
DTSTART:20250309T070000
END:DAYLIGHT
BEGIN:STANDARD
TZOFFSETFROM:-0400
TZOFFSETTO:-0500
TZNAME:EST
DTSTART:20251102T060000
END:STANDARD
BEGIN:DAYLIGHT
TZOFFSETFROM:-0500
TZOFFSETTO:-0400
TZNAME:EDT
DTSTART:20260308T070000
END:DAYLIGHT
BEGIN:STANDARD
TZOFFSETFROM:-0400
TZOFFSETTO:-0500
TZNAME:EST
DTSTART:20261101T060000
END:STANDARD
END:VTIMEZONE
BEGIN:VEVENT
DTSTART;TZID=America/Indiana/Indianapolis:20250928T120000
DTEND;TZID=America/Indiana/Indianapolis:20250928T133000
DTSTAMP:20260424T124758
CREATED:20250727T153946Z
LAST-MODIFIED:20250727T153946Z
UID:4054-1759060800-1759066200@freedomnazarene.org
SUMMARY:Church Dinner
DESCRIPTION:
URL:https://freedomnazarene.org/event/church-dinner-202509/
LOCATION:Family Life Center\, 5504 Jefferson Street\, Freedom\, IN\, 47431\, United States
END:VEVENT
BEGIN:VEVENT
DTSTART;TZID=America/Indiana/Indianapolis:20250915T183000
DTEND;TZID=America/Indiana/Indianapolis:20250915T200000
DTSTAMP:20260424T124758
CREATED:20250727T155118Z
LAST-MODIFIED:20250727T155118Z
UID:4076-1757961000-1757966400@freedomnazarene.org
SUMMARY:Ladies' Night
DESCRIPTION:
URL:https://freedomnazarene.org/event/ladies-night-202509/
LOCATION:Family Life Center\, 5504 Jefferson Street\, Freedom\, IN\, 47431\, United States
END:VEVENT
BEGIN:VEVENT
DTSTART;TZID=America/Indiana/Indianapolis:20250906T080000
DTEND;TZID=America/Indiana/Indianapolis:20250906T090000
DTSTAMP:20260424T124758
CREATED:20250727T154206Z
LAST-MODIFIED:20250727T154206Z
UID:4062-1757145600-1757149200@freedomnazarene.org
SUMMARY:Men's Breakfast
DESCRIPTION:Join us the first Saturday of each month for good food and fellowship—and bring a friend!\n(This is a pitch-in breakfast.)
URL:https://freedomnazarene.org/event/mens-breakfast-202509/
LOCATION:Family Life Center\, 5504 Jefferson Street\, Freedom\, IN\, 47431\, United States
END:VEVENT
BEGIN:VEVENT
DTSTART;TZID=America/Indiana/Indianapolis:20250818T183000
DTEND;TZID=America/Indiana/Indianapolis:20250818T200000
DTSTAMP:20260424T124758
CREATED:20250727T155053Z
LAST-MODIFIED:20250727T155053Z
UID:4074-1755541800-1755547200@freedomnazarene.org
SUMMARY:Ladies' Night
DESCRIPTION:
URL:https://freedomnazarene.org/event/ladies-night-202508/
LOCATION:Family Life Center\, 5504 Jefferson Street\, Freedom\, IN\, 47431\, United States
END:VEVENT
BEGIN:VEVENT
DTSTART;TZID=America/Indiana/Indianapolis:20250802T080000
DTEND;TZID=America/Indiana/Indianapolis:20250802T090000
DTSTAMP:20260424T124758
CREATED:20250727T154127Z
LAST-MODIFIED:20250727T154127Z
UID:4060-1754121600-1754125200@freedomnazarene.org
SUMMARY:Men's Breakfast
DESCRIPTION:Join us the first Saturday of each month for good food and fellowship—and bring a friend!\n(This is a pitch-in breakfast.)
URL:https://freedomnazarene.org/event/mens-breakfast-202508/
LOCATION:Family Life Center\, 5504 Jefferson Street\, Freedom\, IN\, 47431\, United States
END:VEVENT
BEGIN:VEVENT
DTSTART;TZID=America/Indiana/Indianapolis:20250721T183000
DTEND;TZID=America/Indiana/Indianapolis:20250721T200000
DTSTAMP:20260424T124758
CREATED:20250727T155030Z
LAST-MODIFIED:20250727T155030Z
UID:4072-1753122600-1753128000@freedomnazarene.org
SUMMARY:Ladies' Night
DESCRIPTION:
URL:https://freedomnazarene.org/event/ladies-night-202507/
LOCATION:Family Life Center\, 5504 Jefferson Street\, Freedom\, IN\, 47431\, United States
END:VEVENT
BEGIN:VEVENT
DTSTART;TZID=America/Indiana/Indianapolis:20250629T120000
DTEND;TZID=America/Indiana/Indianapolis:20250629T133000
DTSTAMP:20260424T124758
CREATED:20250330T145226Z
LAST-MODIFIED:20250330T145226Z
UID:3971-1751198400-1751203800@freedomnazarene.org
SUMMARY:Church Dinner
DESCRIPTION:
URL:https://freedomnazarene.org/event/church-dinner-202506/
LOCATION:Family Life Center\, 5504 Jefferson Street\, Freedom\, IN\, 47431\, United States
END:VEVENT
BEGIN:VEVENT
DTSTART;TZID=America/Indiana/Indianapolis:20250619T180000
DTEND;TZID=America/Indiana/Indianapolis:20250619T201500
DTSTAMP:20260424T124758
CREATED:20250427T142919Z
LAST-MODIFIED:20250427T142919Z
UID:4008-1750356000-1750364100@freedomnazarene.org
SUMMARY:Vacation Bible School
DESCRIPTION:Vacation Bible School\nStarlight Airlines\nJune 16 – 19 \nJoin us as we journey to the past in order to change our futures! Kids will have a blast traveling aboard Starlight Airlines\, where mad scientist and inventor Captain Gen pilots his time-traveling airplane for adventure after adventure. \nVBS is filled with awesome Bible-learning experiences\, creative crafts\, team-building games\, unforgettable Bible songs\, and tasty treats. Since everything is hands-on\, kids might get a little messy. Be sure to send them in play clothes and sturdy shoes. \nThe fun starts at 6:00 p.m. and ends around 8:15 p.m. each evening. This program is designed for children age 3 through Grade 6 (grade just completed). \nRegister your child: https://vbsmate.com/events/FreedomNazarene/30157
URL:https://freedomnazarene.org/event/vacation-bible-school-2025-06-19/
LOCATION:Freedom Church of the Nazarene\, 5505 Jefferson Street\, Freedom\, IN\, 47431\, United States
ATTACH;FMTTYPE=image/png:https://freedomnazarene.org/wp-content/uploads/2025/04/VBS-Starlight-Airlines.png
END:VEVENT
BEGIN:VEVENT
DTSTART;TZID=America/Indiana/Indianapolis:20250618T180000
DTEND;TZID=America/Indiana/Indianapolis:20250618T201500
DTSTAMP:20260424T124758
CREATED:20250427T142855Z
LAST-MODIFIED:20250427T142855Z
UID:4007-1750269600-1750277700@freedomnazarene.org
SUMMARY:Vacation Bible School
DESCRIPTION:Vacation Bible School\nStarlight Airlines\nJune 16 – 19 \nJoin us as we journey to the past in order to change our futures! Kids will have a blast traveling aboard Starlight Airlines\, where mad scientist and inventor Captain Gen pilots his time-traveling airplane for adventure after adventure. \nVBS is filled with awesome Bible-learning experiences\, creative crafts\, team-building games\, unforgettable Bible songs\, and tasty treats. Since everything is hands-on\, kids might get a little messy. Be sure to send them in play clothes and sturdy shoes. \nThe fun starts at 6:00 p.m. and ends around 8:15 p.m. each evening. This program is designed for children age 3 through Grade 6 (grade just completed). \nRegister your child: https://vbsmate.com/events/FreedomNazarene/30157
URL:https://freedomnazarene.org/event/vacation-bible-school-2025-06-18/
LOCATION:Freedom Church of the Nazarene\, 5505 Jefferson Street\, Freedom\, IN\, 47431\, United States
ATTACH;FMTTYPE=image/png:https://freedomnazarene.org/wp-content/uploads/2025/04/VBS-Starlight-Airlines.png
END:VEVENT
BEGIN:VEVENT
DTSTART;TZID=America/Indiana/Indianapolis:20250617T180000
DTEND;TZID=America/Indiana/Indianapolis:20250617T201500
DTSTAMP:20260424T124758
CREATED:20250427T142830Z
LAST-MODIFIED:20250427T142830Z
UID:4006-1750183200-1750191300@freedomnazarene.org
SUMMARY:Vacation Bible School
DESCRIPTION:Vacation Bible School\nStarlight Airlines\nJune 16 – 19 \nJoin us as we journey to the past in order to change our futures! Kids will have a blast traveling aboard Starlight Airlines\, where mad scientist and inventor Captain Gen pilots his time-traveling airplane for adventure after adventure. \nVBS is filled with awesome Bible-learning experiences\, creative crafts\, team-building games\, unforgettable Bible songs\, and tasty treats. Since everything is hands-on\, kids might get a little messy. Be sure to send them in play clothes and sturdy shoes. \nThe fun starts at 6:00 p.m. and ends around 8:15 p.m. each evening. This program is designed for children age 3 through Grade 6 (grade just completed). \nRegister your child: https://vbsmate.com/events/FreedomNazarene/30157
URL:https://freedomnazarene.org/event/vacation-bible-school-2025-06-17/
LOCATION:Freedom Church of the Nazarene\, 5505 Jefferson Street\, Freedom\, IN\, 47431\, United States
ATTACH;FMTTYPE=image/png:https://freedomnazarene.org/wp-content/uploads/2025/04/VBS-Starlight-Airlines.png
END:VEVENT
BEGIN:VEVENT
DTSTART;TZID=America/Indiana/Indianapolis:20250616T180000
DTEND;TZID=America/Indiana/Indianapolis:20250616T201500
DTSTAMP:20260424T124758
CREATED:20250427T142230Z
LAST-MODIFIED:20250427T142700Z
UID:4001-1750096800-1750104900@freedomnazarene.org
SUMMARY:Vacation Bible School
DESCRIPTION:Vacation Bible School\nStarlight Airlines\nJune 16 – 19 \nJoin us as we journey to the past in order to change our futures! Kids will have a blast traveling aboard Starlight Airlines\, where mad scientist and inventor Captain Gen pilots his time-traveling airplane for adventure after adventure. \nVBS is filled with awesome Bible-learning experiences\, creative crafts\, team-building games\, unforgettable Bible songs\, and tasty treats. Since everything is hands-on\, kids might get a little messy. Be sure to send them in play clothes and sturdy shoes. \nThe fun starts at 6:00 p.m. and ends around 8:15 p.m. each evening. This program is designed for children age 3 through Grade 6 (grade just completed). \nRegister your child: https://vbsmate.com/events/FreedomNazarene/30157
URL:https://freedomnazarene.org/event/vacation-bible-school-2025-06-16/
LOCATION:Freedom Church of the Nazarene\, 5505 Jefferson Street\, Freedom\, IN\, 47431\, United States
ATTACH;FMTTYPE=image/png:https://freedomnazarene.org/wp-content/uploads/2025/04/VBS-Starlight-Airlines.png
END:VEVENT
BEGIN:VEVENT
DTSTART;TZID=America/Indiana/Indianapolis:20250609T183000
DTEND;TZID=America/Indiana/Indianapolis:20250609T200000
DTSTAMP:20260424T124758
CREATED:20250330T145508Z
LAST-MODIFIED:20250601T144703Z
UID:3979-1749493800-1749499200@freedomnazarene.org
SUMMARY:Ladies' Night
DESCRIPTION:
URL:https://freedomnazarene.org/event/ladies-night-202506/
LOCATION:Family Life Center\, 5504 Jefferson Street\, Freedom\, IN\, 47431\, United States
END:VEVENT
BEGIN:VEVENT
DTSTART;TZID=America/Indiana/Indianapolis:20250607T080000
DTEND;TZID=America/Indiana/Indianapolis:20250607T090000
DTSTAMP:20260424T124758
CREATED:20250330T145358Z
LAST-MODIFIED:20250330T145358Z
UID:3975-1749283200-1749286800@freedomnazarene.org
SUMMARY:Men's Breakfast
DESCRIPTION:Join us the first Saturday of each month for good food and fellowship—and bring a friend!\n(This is a pitch-in breakfast.)
URL:https://freedomnazarene.org/event/mens-breakfast-202506/
LOCATION:Family Life Center\, 5504 Jefferson Street\, Freedom\, IN\, 47431\, United States
END:VEVENT
BEGIN:VEVENT
DTSTART;TZID=America/Indiana/Indianapolis:20250519T183000
DTEND;TZID=America/Indiana/Indianapolis:20250519T200000
DTSTAMP:20260424T124758
CREATED:20250330T145430Z
LAST-MODIFIED:20250330T145430Z
UID:3973-1747679400-1747684800@freedomnazarene.org
SUMMARY:Ladies' Night
DESCRIPTION:
URL:https://freedomnazarene.org/event/ladies-night-202505/
LOCATION:Family Life Center\, 5504 Jefferson Street\, Freedom\, IN\, 47431\, United States
END:VEVENT
BEGIN:VEVENT
DTSTART;TZID=America/Indiana/Indianapolis:20250503T080000
DTEND;TZID=America/Indiana/Indianapolis:20250503T090000
DTSTAMP:20260424T124758
CREATED:20250330T145328Z
LAST-MODIFIED:20250330T145328Z
UID:3974-1746259200-1746262800@freedomnazarene.org
SUMMARY:Men's Breakfast
DESCRIPTION:Join us the first Saturday of each month for good food and fellowship—and bring a friend!\n(This is a pitch-in breakfast.)
URL:https://freedomnazarene.org/event/mens-breakfast-202505/
LOCATION:Family Life Center\, 5504 Jefferson Street\, Freedom\, IN\, 47431\, United States
END:VEVENT
BEGIN:VEVENT
DTSTART;TZID=America/Indiana/Indianapolis:20250427T120000
DTEND;TZID=America/Indiana/Indianapolis:20250427T133000
DTSTAMP:20260424T124758
CREATED:20250216T123147Z
LAST-MODIFIED:20250216T123147Z
UID:3919-1745755200-1745760600@freedomnazarene.org
SUMMARY:Church Dinner
DESCRIPTION:
URL:https://freedomnazarene.org/event/church-dinner-202504/
LOCATION:Family Life Center\, 5504 Jefferson Street\, Freedom\, IN\, 47431\, United States
END:VEVENT
BEGIN:VEVENT
DTSTART;TZID=America/Indiana/Indianapolis:20250421T183000
DTEND;TZID=America/Indiana/Indianapolis:20250421T200000
DTSTAMP:20260424T124758
CREATED:20250216T123920Z
LAST-MODIFIED:20250216T123920Z
UID:3928-1745260200-1745265600@freedomnazarene.org
SUMMARY:Ladies' Night
DESCRIPTION:
URL:https://freedomnazarene.org/event/ladies-night-202504/
LOCATION:Family Life Center\, 5504 Jefferson Street\, Freedom\, IN\, 47431\, United States
END:VEVENT
BEGIN:VEVENT
DTSTART;TZID=America/Indiana/Indianapolis:20250420T070000
DTEND;TZID=America/Indiana/Indianapolis:20250420T080000
DTSTAMP:20260424T124758
CREATED:20250330T144701Z
LAST-MODIFIED:20250330T144701Z
UID:3959-1745132400-1745136000@freedomnazarene.org
SUMMARY:Easter Sunrise Service
DESCRIPTION:Easter Sunrise Service will be held at the Freedom Church of the Nazarene on April 20\, 2025 at 7:00 a.m.  A pitch-in breakfast will follow the service.
URL:https://freedomnazarene.org/event/easter-sunrise-service-2025/
LOCATION:Freedom Church of the Nazarene\, 5505 Jefferson Street\, Freedom\, IN\, 47431\, United States
ATTACH;FMTTYPE=image/jpeg:https://freedomnazarene.org/wp-content/uploads/2021/03/Resurrection.jpg
END:VEVENT
BEGIN:VEVENT
DTSTART;VALUE=DATE:20250420
DTEND;VALUE=DATE:20250421
DTSTAMP:20260424T124758
CREATED:20250330T144558Z
LAST-MODIFIED:20250330T144558Z
UID:3960-1745107200-1745193599@freedomnazarene.org
SUMMARY:Easter
DESCRIPTION:
URL:https://freedomnazarene.org/event/easter-2025/
LOCATION:IN
ATTACH;FMTTYPE=image/jpeg:https://freedomnazarene.org/wp-content/uploads/2017/10/Cross-Original.jpg
END:VEVENT
BEGIN:VEVENT
DTSTART;TZID=America/Indiana/Indianapolis:20250418T190000
DTEND;TZID=America/Indiana/Indianapolis:20250418T200000
DTSTAMP:20260424T124758
CREATED:20250330T144824Z
LAST-MODIFIED:20250330T144824Z
UID:3962-1745002800-1745006400@freedomnazarene.org
SUMMARY:Good Friday Service
DESCRIPTION:Good Friday service will be held at the Freedom Baptist Church on April 18\, 2025 at 7:00 p.m.
URL:https://freedomnazarene.org/event/good-friday-service-2025/
LOCATION:Freedom Baptist Church\, 5773 Main Street\, Freedom\, IN\, 47431\, United States
ATTACH;FMTTYPE=image/jpeg:https://freedomnazarene.org/wp-content/uploads/2021/03/Crosses.jpg
END:VEVENT
BEGIN:VEVENT
DTSTART;TZID=America/Indiana/Indianapolis:20250417T183000
DTEND;TZID=America/Indiana/Indianapolis:20250417T193000
DTSTAMP:20260424T124758
CREATED:20250330T144929Z
LAST-MODIFIED:20250330T144929Z
UID:3964-1744914600-1744918200@freedomnazarene.org
SUMMARY:Maundy Thursday Service
DESCRIPTION:Maundy Thursday service will be held at the Freedom United Methodist Church on April 17\, 2025 at 6:30 p.m.
URL:https://freedomnazarene.org/event/maundy-thursday-service-2025/
LOCATION:Freedom United Methodist Church\, 5363 Limestone Street\, Freedom\, IN\, 47431\, United States
ATTACH;FMTTYPE=image/jpeg:https://freedomnazarene.org/wp-content/uploads/2021/03/Last-Supper.jpg
END:VEVENT
BEGIN:VEVENT
DTSTART;VALUE=DATE:20250413
DTEND;VALUE=DATE:20250414
DTSTAMP:20260424T124758
CREATED:20250330T145046Z
LAST-MODIFIED:20250330T145046Z
UID:3969-1744502400-1744588799@freedomnazarene.org
SUMMARY:Palm Sunday
DESCRIPTION:
URL:https://freedomnazarene.org/event/palm-sunday-2025/
LOCATION:IN
ATTACH;FMTTYPE=image/jpeg:https://freedomnazarene.org/wp-content/uploads/2021/03/Palm-Sunday-Original-scaled.jpg
END:VEVENT
BEGIN:VEVENT
DTSTART;TZID=America/Indiana/Indianapolis:20250405T080000
DTEND;TZID=America/Indiana/Indianapolis:20250405T090000
DTSTAMP:20260424T124758
CREATED:20250216T124108Z
LAST-MODIFIED:20250216T124108Z
UID:3934-1743840000-1743843600@freedomnazarene.org
SUMMARY:Men's Breakfast
DESCRIPTION:Join us the first Saturday of each month for good food and fellowship—and bring a friend!\n(This is a pitch-in breakfast.)
URL:https://freedomnazarene.org/event/mens-breakfast-202504/
LOCATION:Family Life Center\, 5504 Jefferson Street\, Freedom\, IN\, 47431\, United States
END:VEVENT
BEGIN:VEVENT
DTSTART;TZID=America/Indiana/Indianapolis:20250330T120000
DTEND;TZID=America/Indiana/Indianapolis:20250330T133000
DTSTAMP:20260424T124758
CREATED:20250216T123109Z
LAST-MODIFIED:20250216T123109Z
UID:3917-1743336000-1743341400@freedomnazarene.org
SUMMARY:Church Dinner
DESCRIPTION:
URL:https://freedomnazarene.org/event/church-dinner-202503/
LOCATION:Family Life Center\, 5504 Jefferson Street\, Freedom\, IN\, 47431\, United States
END:VEVENT
BEGIN:VEVENT
DTSTART;TZID=America/Indiana/Indianapolis:20250317T183000
DTEND;TZID=America/Indiana/Indianapolis:20250317T200000
DTSTAMP:20260424T124758
CREATED:20250216T123847Z
LAST-MODIFIED:20250216T123847Z
UID:3926-1742236200-1742241600@freedomnazarene.org
SUMMARY:Ladies' Night
DESCRIPTION:
URL:https://freedomnazarene.org/event/ladies-night-202503/
LOCATION:Family Life Center\, 5504 Jefferson Street\, Freedom\, IN\, 47431\, United States
END:VEVENT
BEGIN:VEVENT
DTSTART;TZID=America/Indiana/Indianapolis:20250301T080000
DTEND;TZID=America/Indiana/Indianapolis:20250301T090000
DTSTAMP:20260424T124758
CREATED:20250216T124034Z
LAST-MODIFIED:20250216T124034Z
UID:3932-1740816000-1740819600@freedomnazarene.org
SUMMARY:Men's Breakfast
DESCRIPTION:Join us the first Saturday of each month for good food and fellowship—and bring a friend!\n(This is a pitch-in breakfast.)
URL:https://freedomnazarene.org/event/mens-breakfast-202503/
LOCATION:Family Life Center\, 5504 Jefferson Street\, Freedom\, IN\, 47431\, United States
END:VEVENT
BEGIN:VEVENT
DTSTART;TZID=America/Indiana/Indianapolis:20250223T120000
DTEND;TZID=America/Indiana/Indianapolis:20250223T133000
DTSTAMP:20260424T124758
CREATED:20250216T123011Z
LAST-MODIFIED:20250216T123011Z
UID:3915-1740312000-1740317400@freedomnazarene.org
SUMMARY:Church Dinner
DESCRIPTION:
URL:https://freedomnazarene.org/event/church-dinner-202502/
LOCATION:Family Life Center\, 5504 Jefferson Street\, Freedom\, IN\, 47431\, United States
END:VEVENT
BEGIN:VEVENT
DTSTART;VALUE=DATE:20250223
DTEND;VALUE=DATE:20250224
DTSTAMP:20260424T124758
CREATED:20250216T124239Z
LAST-MODIFIED:20250216T124239Z
UID:3936-1740268800-1740355199@freedomnazarene.org
SUMMARY:Alabaster Offering
DESCRIPTION:The Alabaster Offering provides funds for property and buildings around the world. While the church consists of the people of God and not a building\, buildings erected for the purpose of ministry help provide a sense of permanence\, functionally enhance ministry efforts\, and convey an attitude that the Church of the Nazarene intends to “put down roots.” Alabaster funds help provide land for many Work & Witness projects\, and the entire Alabaster Offering goes toward the purchase of land and construction of churches\, schools\, medical facilities\, and homes for missionaries and national workers?
URL:https://freedomnazarene.org/event/alabaster-offering-202502/
LOCATION:Freedom Church of the Nazarene\, 5505 Jefferson Street\, Freedom\, IN\, 47431\, United States
ATTACH;FMTTYPE=image/jpeg:https://freedomnazarene.org/wp-content/uploads/2018/02/AlabasterBanner2-Print.jpg
END:VEVENT
BEGIN:VEVENT
DTSTART;TZID=America/Indiana/Indianapolis:20250217T183000
DTEND;TZID=America/Indiana/Indianapolis:20250217T200000
DTSTAMP:20260424T124758
CREATED:20250216T123815Z
LAST-MODIFIED:20250216T123815Z
UID:3924-1739817000-1739822400@freedomnazarene.org
SUMMARY:Ladies' Night
DESCRIPTION:
URL:https://freedomnazarene.org/event/ladies-night-202502/
LOCATION:Family Life Center\, 5504 Jefferson Street\, Freedom\, IN\, 47431\, United States
END:VEVENT
BEGIN:VEVENT
DTSTART;TZID=America/Indiana/Indianapolis:20250201T080000
DTEND;TZID=America/Indiana/Indianapolis:20250201T090000
DTSTAMP:20260424T124758
CREATED:20250216T124001Z
LAST-MODIFIED:20250216T124001Z
UID:3930-1738396800-1738400400@freedomnazarene.org
SUMMARY:Men's Breakfast
DESCRIPTION:Join us the first Saturday of each month for good food and fellowship—and bring a friend!\n(This is a pitch-in breakfast.)
URL:https://freedomnazarene.org/event/mens-breakfast-202502/
LOCATION:Family Life Center\, 5504 Jefferson Street\, Freedom\, IN\, 47431\, United States
END:VEVENT
END:VCALENDAR