BEGIN:VCALENDAR
VERSION:2.0
PRODID:-//Freedom Church of the Nazarene - ECPv6.15.20//NONSGML v1.0//EN
CALSCALE:GREGORIAN
METHOD:PUBLISH
X-WR-CALNAME:Freedom Church of the Nazarene
X-ORIGINAL-URL:https://freedomnazarene.org
X-WR-CALDESC:Events for Freedom Church of the Nazarene
REFRESH-INTERVAL;VALUE=DURATION:PT1H
X-Robots-Tag:noindex
X-PUBLISHED-TTL:PT1H
BEGIN:VTIMEZONE
TZID:America/Indiana/Indianapolis
BEGIN:DAYLIGHT
TZOFFSETFROM:-0500
TZOFFSETTO:-0400
TZNAME:EDT
DTSTART:20230312T070000
END:DAYLIGHT
BEGIN:STANDARD
TZOFFSETFROM:-0400
TZOFFSETTO:-0500
TZNAME:EST
DTSTART:20231105T060000
END:STANDARD
BEGIN:DAYLIGHT
TZOFFSETFROM:-0500
TZOFFSETTO:-0400
TZNAME:EDT
DTSTART:20240310T070000
END:DAYLIGHT
BEGIN:STANDARD
TZOFFSETFROM:-0400
TZOFFSETTO:-0500
TZNAME:EST
DTSTART:20241103T060000
END:STANDARD
BEGIN:DAYLIGHT
TZOFFSETFROM:-0500
TZOFFSETTO:-0400
TZNAME:EDT
DTSTART:20250309T070000
END:DAYLIGHT
BEGIN:STANDARD
TZOFFSETFROM:-0400
TZOFFSETTO:-0500
TZNAME:EST
DTSTART:20251102T060000
END:STANDARD
BEGIN:DAYLIGHT
TZOFFSETFROM:-0500
TZOFFSETTO:-0400
TZNAME:EDT
DTSTART:20260308T070000
END:DAYLIGHT
BEGIN:STANDARD
TZOFFSETFROM:-0400
TZOFFSETTO:-0500
TZNAME:EST
DTSTART:20261101T060000
END:STANDARD
END:VTIMEZONE
BEGIN:VEVENT
DTSTART;TZID=America/Indiana/Indianapolis:20250126T120000
DTEND;TZID=America/Indiana/Indianapolis:20250126T133000
DTSTAMP:20260424T162346
CREATED:20241201T133839Z
LAST-MODIFIED:20241201T133839Z
UID:3864-1737892800-1737898200@freedomnazarene.org
SUMMARY:Church Dinner
DESCRIPTION:
URL:https://freedomnazarene.org/event/church-dinner-202501/
LOCATION:Family Life Center\, 5504 Jefferson Street\, Freedom\, IN\, 47431\, United States
END:VEVENT
BEGIN:VEVENT
DTSTART;TZID=America/Indiana/Indianapolis:20250120T183000
DTEND;TZID=America/Indiana/Indianapolis:20250120T200000
DTSTAMP:20260424T162346
CREATED:20241201T133649Z
LAST-MODIFIED:20241201T133649Z
UID:3858-1737397800-1737403200@freedomnazarene.org
SUMMARY:Ladies' Night
DESCRIPTION:
URL:https://freedomnazarene.org/event/ladies-night-202501/
LOCATION:Family Life Center\, 5504 Jefferson Street\, Freedom\, IN\, 47431\, United States
END:VEVENT
BEGIN:VEVENT
DTSTART;TZID=America/Indiana/Indianapolis:20250119T183000
DTEND;TZID=America/Indiana/Indianapolis:20250119T200000
DTSTAMP:20260424T162346
CREATED:20241201T133726Z
LAST-MODIFIED:20241201T133726Z
UID:3857-1737311400-1737316800@freedomnazarene.org
SUMMARY:Church Board Meeting
DESCRIPTION: 
URL:https://freedomnazarene.org/event/church-board-meeting-202501/
LOCATION:Freedom Church of the Nazarene\, 5505 Jefferson Street\, Freedom\, IN\, 47431\, United States
CATEGORIES:Church Board
END:VEVENT
BEGIN:VEVENT
DTSTART;TZID=America/Indiana/Indianapolis:20250104T080000
DTEND;TZID=America/Indiana/Indianapolis:20250104T090000
DTSTAMP:20260424T162346
CREATED:20241201T133604Z
LAST-MODIFIED:20241201T133604Z
UID:3856-1735977600-1735981200@freedomnazarene.org
SUMMARY:Men's Breakfast
DESCRIPTION:Join us the first Saturday of each month for good food and fellowship—and bring a friend!\n(This is a pitch-in breakfast.)
URL:https://freedomnazarene.org/event/mens-breakfast-202501/
LOCATION:Family Life Center\, 5504 Jefferson Street\, Freedom\, IN\, 47431\, United States
END:VEVENT
BEGIN:VEVENT
DTSTART;TZID=America/Indiana/Indianapolis:20241216T183000
DTEND;TZID=America/Indiana/Indianapolis:20241216T200000
DTSTAMP:20260424T162346
CREATED:20241109T160814Z
LAST-MODIFIED:20241109T160814Z
UID:3836-1734373800-1734379200@freedomnazarene.org
SUMMARY:Ladies' Night
DESCRIPTION:
URL:https://freedomnazarene.org/event/ladies-night-202412/
LOCATION:Family Life Center\, 5504 Jefferson Street\, Freedom\, IN\, 47431\, United States
END:VEVENT
BEGIN:VEVENT
DTSTART;TZID=America/Indiana/Indianapolis:20241215T170000
DTEND;TZID=America/Indiana/Indianapolis:20241215T200000
DTSTAMP:20260424T162346
CREATED:20241124T154215Z
LAST-MODIFIED:20241124T154215Z
UID:3852-1734282000-1734292800@freedomnazarene.org
SUMMARY:Church Board Meeting
DESCRIPTION: 
URL:https://freedomnazarene.org/event/church-board-meeting-202412/
LOCATION:Freedom Church of the Nazarene\, 5505 Jefferson Street\, Freedom\, IN\, 47431\, United States
CATEGORIES:Church Board
END:VEVENT
BEGIN:VEVENT
DTSTART;TZID=America/Indiana/Indianapolis:20241207T080000
DTEND;TZID=America/Indiana/Indianapolis:20241207T090000
DTSTAMP:20260424T162346
CREATED:20241109T155222Z
LAST-MODIFIED:20241109T155222Z
UID:3827-1733558400-1733562000@freedomnazarene.org
SUMMARY:Men's Breakfast
DESCRIPTION:Join us the first Saturday of each month for good food and fellowship—and bring a friend!\n(This is a pitch-in breakfast.)
URL:https://freedomnazarene.org/event/mens-breakfast-202412/
LOCATION:Family Life Center\, 5504 Jefferson Street\, Freedom\, IN\, 47431\, United States
END:VEVENT
BEGIN:VEVENT
DTSTART;TZID=America/Indiana/Indianapolis:20241119T173000
DTEND;TZID=America/Indiana/Indianapolis:20241119T193000
DTSTAMP:20260424T162346
CREATED:20241109T163747Z
LAST-MODIFIED:20241109T163747Z
UID:3841-1732037400-1732044600@freedomnazarene.org
SUMMARY:Friendsgiving
DESCRIPTION:Our NYI youth group is hosting a Friendsgiving dinner on Tuesday\, November 19 at 5:30 p.m. The Spencer Church of the Nazarene NYI group will be joining us. It’ll be a fun evening of dinner\, games\, and fellowship. Teens in grades 6 and up are welcome to join!
URL:https://freedomnazarene.org/event/friendsgiving/
LOCATION:Family Life Center\, 5504 Jefferson Street\, Freedom\, IN\, 47431\, United States
ATTACH;FMTTYPE=image/png:https://freedomnazarene.org/wp-content/uploads/2024/11/Friendsgiving-2024.png
END:VEVENT
BEGIN:VEVENT
DTSTART;TZID=America/Indiana/Indianapolis:20241118T183000
DTEND;TZID=America/Indiana/Indianapolis:20241118T200000
DTSTAMP:20260424T162346
CREATED:20241109T155257Z
LAST-MODIFIED:20241109T155257Z
UID:3825-1731954600-1731960000@freedomnazarene.org
SUMMARY:Ladies' Night
DESCRIPTION:
URL:https://freedomnazarene.org/event/ladies-night-202411/
LOCATION:Family Life Center\, 5504 Jefferson Street\, Freedom\, IN\, 47431\, United States
END:VEVENT
BEGIN:VEVENT
DTSTART;TZID=America/Indiana/Indianapolis:20241117T183000
DTEND;TZID=America/Indiana/Indianapolis:20241117T200000
DTSTAMP:20260424T162346
CREATED:20241109T160909Z
LAST-MODIFIED:20241109T160909Z
UID:3767-1731868200-1731873600@freedomnazarene.org
SUMMARY:Church Board Meeting
DESCRIPTION: 
URL:https://freedomnazarene.org/event/church-board-meeting-202411/
LOCATION:Freedom Church of the Nazarene\, 5505 Jefferson Street\, Freedom\, IN\, 47431\, United States
CATEGORIES:Church Board
END:VEVENT
BEGIN:VEVENT
DTSTART;TZID=America/Indiana/Indianapolis:20241116T090000
DTEND;TZID=America/Indiana/Indianapolis:20241116T160000
DTSTAMP:20260424T162346
CREATED:20241109T160720Z
LAST-MODIFIED:20241109T160720Z
UID:3834-1731747600-1731772800@freedomnazarene.org
SUMMARY:Christmas Bazaar
DESCRIPTION:It’s that time of year again for our Christmas Bazaar & Bake Sale!
URL:https://freedomnazarene.org/event/christmas-bazaar-2024-2/
LOCATION:Family Life Center\, 5504 Jefferson Street\, Freedom\, IN\, 47431\, United States
ATTACH;FMTTYPE=image/png:https://freedomnazarene.org/wp-content/uploads/2024/11/Bazaar_202411.png
END:VEVENT
BEGIN:VEVENT
DTSTART;TZID=America/Indiana/Indianapolis:20241115T090000
DTEND;TZID=America/Indiana/Indianapolis:20241115T160000
DTSTAMP:20260424T162346
CREATED:20241109T160653Z
LAST-MODIFIED:20241109T160653Z
UID:3832-1731661200-1731686400@freedomnazarene.org
SUMMARY:Christmas Bazaar
DESCRIPTION:It’s that time of year again for our Christmas Bazaar & Bake Sale!
URL:https://freedomnazarene.org/event/christmas-bazaar-2024-01/
LOCATION:Family Life Center\, 5504 Jefferson Street\, Freedom\, IN\, 47431\, United States
ATTACH;FMTTYPE=image/png:https://freedomnazarene.org/wp-content/uploads/2024/11/Bazaar_202411.png
END:VEVENT
BEGIN:VEVENT
DTSTART;TZID=America/Indiana/Indianapolis:20241102T080000
DTEND;TZID=America/Indiana/Indianapolis:20241102T090000
DTSTAMP:20260424T162346
CREATED:20241109T155119Z
LAST-MODIFIED:20241109T155119Z
UID:3826-1730534400-1730538000@freedomnazarene.org
SUMMARY:Men's Breakfast
DESCRIPTION:Join us the first Saturday of each month for good food and fellowship—and bring a friend!\n(This is a pitch-in breakfast.)
URL:https://freedomnazarene.org/event/mens-breakfast-202411/
LOCATION:Family Life Center\, 5504 Jefferson Street\, Freedom\, IN\, 47431\, United States
END:VEVENT
BEGIN:VEVENT
DTSTART;TZID=America/Indiana/Indianapolis:20241027T120000
DTEND;TZID=America/Indiana/Indianapolis:20241027T133000
DTSTAMP:20260424T162346
CREATED:20240901T134919Z
LAST-MODIFIED:20240901T134919Z
UID:3765-1730030400-1730035800@freedomnazarene.org
SUMMARY:Church Dinner
DESCRIPTION:
URL:https://freedomnazarene.org/event/church-dinner-202410/
LOCATION:Family Life Center\, 5504 Jefferson Street\, Freedom\, IN\, 47431\, United States
END:VEVENT
BEGIN:VEVENT
DTSTART;TZID=America/Indiana/Indianapolis:20241021T183000
DTEND;TZID=America/Indiana/Indianapolis:20241021T200000
DTSTAMP:20260424T162346
CREATED:20240901T134851Z
LAST-MODIFIED:20240901T134851Z
UID:3763-1729535400-1729540800@freedomnazarene.org
SUMMARY:Ladies' Night
DESCRIPTION:
URL:https://freedomnazarene.org/event/ladies-night-202410/
LOCATION:Family Life Center\, 5504 Jefferson Street\, Freedom\, IN\, 47431\, United States
END:VEVENT
BEGIN:VEVENT
DTSTART;TZID=America/Indiana/Indianapolis:20241005T080000
DTEND;TZID=America/Indiana/Indianapolis:20241005T093000
DTSTAMP:20260424T162346
CREATED:20240901T134824Z
LAST-MODIFIED:20240901T134824Z
UID:3761-1728115200-1728120600@freedomnazarene.org
SUMMARY:Men's Breakfast
DESCRIPTION:Join us the first Saturday of each month for good food and fellowship—and bring a friend!\n(This is a pitch-in breakfast.)
URL:https://freedomnazarene.org/event/mens-breakfast-202410/
LOCATION:Family Life Center\, 5504 Jefferson Street\, Freedom\, IN\, 47431\, United States
END:VEVENT
BEGIN:VEVENT
DTSTART;TZID=America/Indiana/Indianapolis:20240929T120000
DTEND;TZID=America/Indiana/Indianapolis:20240929T133000
DTSTAMP:20260424T162346
CREATED:20240707T122646Z
LAST-MODIFIED:20240707T122646Z
UID:3738-1727611200-1727616600@freedomnazarene.org
SUMMARY:Church Dinner
DESCRIPTION:
URL:https://freedomnazarene.org/event/church-dinner-202409/
LOCATION:Family Life Center\, 5504 Jefferson Street\, Freedom\, IN\, 47431\, United States
END:VEVENT
BEGIN:VEVENT
DTSTART;VALUE=DATE:20240929
DTEND;VALUE=DATE:20240930
DTSTAMP:20260424T162346
CREATED:20240901T141741Z
LAST-MODIFIED:20240901T141741Z
UID:3769-1727568000-1727654399@freedomnazarene.org
SUMMARY:Alabaster Offering
DESCRIPTION:The Alabaster Offering provides funds for property and buildings around the world. While the church consists of the people of God and not a building\, buildings erected for the purpose of ministry help provide a sense of permanence\, functionally enhance ministry efforts\, and convey an attitude that the Church of the Nazarene intends to “put down roots.” Alabaster funds help provide land for many Work & Witness projects\, and the entire Alabaster Offering goes toward the purchase of land and construction of churches\, schools\, medical facilities\, and homes for missionaries and national workers?
URL:https://freedomnazarene.org/event/alabaster-offering-202409/
LOCATION:Freedom Church of the Nazarene\, 5505 Jefferson Street\, Freedom\, IN\, 47431\, United States
ATTACH;FMTTYPE=image/jpeg:https://freedomnazarene.org/wp-content/uploads/2018/02/AlabasterBanner2-Print.jpg
END:VEVENT
BEGIN:VEVENT
DTSTART;TZID=America/Indiana/Indianapolis:20240909T183000
DTEND;TZID=America/Indiana/Indianapolis:20240909T200000
DTSTAMP:20260424T162346
CREATED:20240707T122611Z
LAST-MODIFIED:20240901T143504Z
UID:3736-1725906600-1725912000@freedomnazarene.org
SUMMARY:Ladies' Night
DESCRIPTION:
URL:https://freedomnazarene.org/event/ladies-night-202409/
LOCATION:Family Life Center\, 5504 Jefferson Street\, Freedom\, IN\, 47431\, United States
END:VEVENT
BEGIN:VEVENT
DTSTART;TZID=America/Indiana/Indianapolis:20240907T080000
DTEND;TZID=America/Indiana/Indianapolis:20240907T093000
DTSTAMP:20260424T162346
CREATED:20240707T122540Z
LAST-MODIFIED:20240707T122540Z
UID:3734-1725696000-1725701400@freedomnazarene.org
SUMMARY:Men's Breakfast
DESCRIPTION:Join us the first Saturday of each month for good food and fellowship—and bring a friend!\n(This is a pitch-in breakfast.)
URL:https://freedomnazarene.org/event/mens-breakfast-202409/
LOCATION:Family Life Center\, 5504 Jefferson Street\, Freedom\, IN\, 47431\, United States
END:VEVENT
BEGIN:VEVENT
DTSTART;TZID=America/Indiana/Indianapolis:20240825T120000
DTEND;TZID=America/Indiana/Indianapolis:20240825T133000
DTSTAMP:20260424T162346
CREATED:20240707T122128Z
LAST-MODIFIED:20240707T122128Z
UID:3732-1724587200-1724592600@freedomnazarene.org
SUMMARY:Church Dinner
DESCRIPTION:
URL:https://freedomnazarene.org/event/church-dinner-202408/
LOCATION:Family Life Center\, 5504 Jefferson Street\, Freedom\, IN\, 47431\, United States
END:VEVENT
BEGIN:VEVENT
DTSTART;TZID=America/Indiana/Indianapolis:20240819T183000
DTEND;TZID=America/Indiana/Indianapolis:20240819T200000
DTSTAMP:20260424T162346
CREATED:20240707T122059Z
LAST-MODIFIED:20240707T122059Z
UID:3730-1724092200-1724097600@freedomnazarene.org
SUMMARY:Ladies' Night
DESCRIPTION:
URL:https://freedomnazarene.org/event/ladies-night-202408/
LOCATION:Family Life Center\, 5504 Jefferson Street\, Freedom\, IN\, 47431\, United States
END:VEVENT
BEGIN:VEVENT
DTSTART;TZID=America/Indiana/Indianapolis:20240803T080000
DTEND;TZID=America/Indiana/Indianapolis:20240803T093000
DTSTAMP:20260424T162346
CREATED:20240707T122016Z
LAST-MODIFIED:20240707T122016Z
UID:3728-1722672000-1722677400@freedomnazarene.org
SUMMARY:Men's Breakfast
DESCRIPTION:Join us the first Saturday of each month for good food and fellowship—and bring a friend!\n(This is a pitch-in breakfast.)
URL:https://freedomnazarene.org/event/mens-breakfast-202408/
LOCATION:Family Life Center\, 5504 Jefferson Street\, Freedom\, IN\, 47431\, United States
END:VEVENT
BEGIN:VEVENT
DTSTART;TZID=America/Indiana/Indianapolis:20240727T090000
DTEND;TZID=America/Indiana/Indianapolis:20240727T160000
DTSTAMP:20260424T162346
CREATED:20240630T144248Z
LAST-MODIFIED:20240707T143333Z
UID:3724-1722070800-1722096000@freedomnazarene.org
SUMMARY:Free Clothes Giveaway
DESCRIPTION:Free clothes & school supplies available for people of all ages while supplies last!\nShow up and take as many clothes as you need— completely free—as a gift of love from Freedom Church of the Nazarene.
URL:https://freedomnazarene.org/event/free-clothes-giveaway-2024/
LOCATION:Family Life Center\, 5504 Jefferson Street\, Freedom\, IN\, 47431\, United States
ATTACH;FMTTYPE=image/jpeg:https://freedomnazarene.org/wp-content/uploads/2019/07/Free-Clothes-Giveaway.jpg
END:VEVENT
BEGIN:VEVENT
DTSTART;TZID=America/Indiana/Indianapolis:20240715T183000
DTEND;TZID=America/Indiana/Indianapolis:20240715T200000
DTSTAMP:20260424T162346
CREATED:20240609T144004Z
LAST-MODIFIED:20240609T144004Z
UID:3718-1721068200-1721073600@freedomnazarene.org
SUMMARY:Ladies' Night
DESCRIPTION:
URL:https://freedomnazarene.org/event/ladies-night-202407/
LOCATION:Family Life Center\, 5504 Jefferson Street\, Freedom\, IN\, 47431\, United States
END:VEVENT
BEGIN:VEVENT
DTSTART;TZID=America/Indiana/Indianapolis:20240714T183000
DTEND;TZID=America/Indiana/Indianapolis:20240714T200000
DTSTAMP:20260424T162346
CREATED:20240630T144428Z
LAST-MODIFIED:20240630T144428Z
UID:3726-1720981800-1720987200@freedomnazarene.org
SUMMARY:Church Board Meeting
DESCRIPTION: 
URL:https://freedomnazarene.org/event/church-board-meeting-202407/
LOCATION:Freedom Church of the Nazarene\, 5505 Jefferson Street\, Freedom\, IN\, 47431\, United States
CATEGORIES:Church Board
END:VEVENT
BEGIN:VEVENT
DTSTART;TZID=America/Indiana/Indianapolis:20240706T080000
DTEND;TZID=America/Indiana/Indianapolis:20240706T093000
DTSTAMP:20260424T162346
CREATED:20240609T144029Z
LAST-MODIFIED:20240609T144029Z
UID:3717-1720252800-1720258200@freedomnazarene.org
SUMMARY:Men's Breakfast
DESCRIPTION:Join us the first Saturday of each month for good food and fellowship—and bring a friend!\n(This is a pitch-in breakfast.)
URL:https://freedomnazarene.org/event/mens-breakfast-202407/
LOCATION:Family Life Center\, 5504 Jefferson Street\, Freedom\, IN\, 47431\, United States
END:VEVENT
BEGIN:VEVENT
DTSTART;TZID=America/Indiana/Indianapolis:20240624T183000
DTEND;TZID=America/Indiana/Indianapolis:20240624T200000
DTSTAMP:20260424T162346
CREATED:20240609T143708Z
LAST-MODIFIED:20240609T143708Z
UID:3713-1719253800-1719259200@freedomnazarene.org
SUMMARY:Ladies' Night
DESCRIPTION:
URL:https://freedomnazarene.org/event/ladies-night-202406/
LOCATION:Family Life Center\, 5504 Jefferson Street\, Freedom\, IN\, 47431\, United States
ATTACH;FMTTYPE=image/png:https://freedomnazarene.org/wp-content/uploads/2024/04/Ladies-Night-202406.png
END:VEVENT
BEGIN:VEVENT
DTSTART;TZID=America/Indiana/Indianapolis:20240623T183000
DTEND;TZID=America/Indiana/Indianapolis:20240623T200000
DTSTAMP:20260424T162346
CREATED:20240609T143511Z
LAST-MODIFIED:20240609T143511Z
UID:3711-1719167400-1719172800@freedomnazarene.org
SUMMARY:Church Board Meeting
DESCRIPTION: 
URL:https://freedomnazarene.org/event/church-board-meeting-202406/
LOCATION:Freedom Church of the Nazarene\, 5505 Jefferson Street\, Freedom\, IN\, 47431\, United States
CATEGORIES:Church Board
END:VEVENT
BEGIN:VEVENT
DTSTART;TZID=America/Indiana/Indianapolis:20240620T180000
DTEND;TZID=America/Indiana/Indianapolis:20240620T201500
DTSTAMP:20260424T162346
CREATED:20240422T232559Z
LAST-MODIFIED:20240423T000046Z
UID:3676-1718906400-1718914500@freedomnazarene.org
SUMMARY:Vacation Bible School
DESCRIPTION:Vacation Bible School: River Rafting Adventure \nJune 17-20\n\nParents\, send your kids on a Vacation Bible School (VBS) river rafting adventure! As we travel down the river and through the book of Acts\, we’ll experience God’s love alongside the earliest Christians. Children will learn that we can plant the Good News wherever we go. VBS is filled with awesome Bible-learning experiences\, creative crafts\, team-building games\, unforgettable Bible songs\, and tasty treats. Since everything is hands-on\, kids might get a little messy. Be sure to send them in play clothes and sturdy shoes. \nThe fun starts at 6:00 p.m. and ends around 8:15 p.m. each evening. This program is designed for children age 3 through Grade 6 (grade just completed). \n\nRegister your child: https://vbsmate.com/events/FreedomNazarene/28712
URL:https://freedomnazarene.org/event/vacation-bible-school-2024-04/
LOCATION:Freedom Church of the Nazarene\, 5505 Jefferson Street\, Freedom\, IN\, 47431\, United States
ATTACH;FMTTYPE=image/png:https://freedomnazarene.org/wp-content/uploads/2024/04/VBS-RiverRafting-Newsletter.png
END:VEVENT
END:VCALENDAR