BEGIN:VCALENDAR
VERSION:2.0
PRODID:-//Freedom Church of the Nazarene - ECPv6.15.20//NONSGML v1.0//EN
CALSCALE:GREGORIAN
METHOD:PUBLISH
X-WR-CALNAME:Freedom Church of the Nazarene
X-ORIGINAL-URL:https://freedomnazarene.org
X-WR-CALDESC:Events for Freedom Church of the Nazarene
REFRESH-INTERVAL;VALUE=DURATION:PT1H
X-Robots-Tag:noindex
X-PUBLISHED-TTL:PT1H
BEGIN:VTIMEZONE
TZID:America/Indiana/Indianapolis
BEGIN:DAYLIGHT
TZOFFSETFROM:-0500
TZOFFSETTO:-0400
TZNAME:EDT
DTSTART:20230312T070000
END:DAYLIGHT
BEGIN:STANDARD
TZOFFSETFROM:-0400
TZOFFSETTO:-0500
TZNAME:EST
DTSTART:20231105T060000
END:STANDARD
BEGIN:DAYLIGHT
TZOFFSETFROM:-0500
TZOFFSETTO:-0400
TZNAME:EDT
DTSTART:20240310T070000
END:DAYLIGHT
BEGIN:STANDARD
TZOFFSETFROM:-0400
TZOFFSETTO:-0500
TZNAME:EST
DTSTART:20241103T060000
END:STANDARD
BEGIN:DAYLIGHT
TZOFFSETFROM:-0500
TZOFFSETTO:-0400
TZNAME:EDT
DTSTART:20250309T070000
END:DAYLIGHT
BEGIN:STANDARD
TZOFFSETFROM:-0400
TZOFFSETTO:-0500
TZNAME:EST
DTSTART:20251102T060000
END:STANDARD
END:VTIMEZONE
BEGIN:VEVENT
DTSTART;TZID=America/Indiana/Indianapolis:20240825T120000
DTEND;TZID=America/Indiana/Indianapolis:20240825T133000
DTSTAMP:20260424T190224
CREATED:20240707T122128Z
LAST-MODIFIED:20240707T122128Z
UID:3732-1724587200-1724592600@freedomnazarene.org
SUMMARY:Church Dinner
DESCRIPTION:
URL:https://freedomnazarene.org/event/church-dinner-202408/
LOCATION:Family Life Center\, 5504 Jefferson Street\, Freedom\, IN\, 47431\, United States
END:VEVENT
BEGIN:VEVENT
DTSTART;TZID=America/Indiana/Indianapolis:20240819T183000
DTEND;TZID=America/Indiana/Indianapolis:20240819T200000
DTSTAMP:20260424T190224
CREATED:20240707T122059Z
LAST-MODIFIED:20240707T122059Z
UID:3730-1724092200-1724097600@freedomnazarene.org
SUMMARY:Ladies' Night
DESCRIPTION:
URL:https://freedomnazarene.org/event/ladies-night-202408/
LOCATION:Family Life Center\, 5504 Jefferson Street\, Freedom\, IN\, 47431\, United States
END:VEVENT
BEGIN:VEVENT
DTSTART;TZID=America/Indiana/Indianapolis:20240803T080000
DTEND;TZID=America/Indiana/Indianapolis:20240803T093000
DTSTAMP:20260424T190224
CREATED:20240707T122016Z
LAST-MODIFIED:20240707T122016Z
UID:3728-1722672000-1722677400@freedomnazarene.org
SUMMARY:Men's Breakfast
DESCRIPTION:Join us the first Saturday of each month for good food and fellowship—and bring a friend!\n(This is a pitch-in breakfast.)
URL:https://freedomnazarene.org/event/mens-breakfast-202408/
LOCATION:Family Life Center\, 5504 Jefferson Street\, Freedom\, IN\, 47431\, United States
END:VEVENT
BEGIN:VEVENT
DTSTART;TZID=America/Indiana/Indianapolis:20240727T090000
DTEND;TZID=America/Indiana/Indianapolis:20240727T160000
DTSTAMP:20260424T190224
CREATED:20240630T144248Z
LAST-MODIFIED:20240707T143333Z
UID:3724-1722070800-1722096000@freedomnazarene.org
SUMMARY:Free Clothes Giveaway
DESCRIPTION:Free clothes & school supplies available for people of all ages while supplies last!\nShow up and take as many clothes as you need— completely free—as a gift of love from Freedom Church of the Nazarene.
URL:https://freedomnazarene.org/event/free-clothes-giveaway-2024/
LOCATION:Family Life Center\, 5504 Jefferson Street\, Freedom\, IN\, 47431\, United States
ATTACH;FMTTYPE=image/jpeg:https://freedomnazarene.org/wp-content/uploads/2019/07/Free-Clothes-Giveaway.jpg
END:VEVENT
BEGIN:VEVENT
DTSTART;TZID=America/Indiana/Indianapolis:20240715T183000
DTEND;TZID=America/Indiana/Indianapolis:20240715T200000
DTSTAMP:20260424T190224
CREATED:20240609T144004Z
LAST-MODIFIED:20240609T144004Z
UID:3718-1721068200-1721073600@freedomnazarene.org
SUMMARY:Ladies' Night
DESCRIPTION:
URL:https://freedomnazarene.org/event/ladies-night-202407/
LOCATION:Family Life Center\, 5504 Jefferson Street\, Freedom\, IN\, 47431\, United States
END:VEVENT
BEGIN:VEVENT
DTSTART;TZID=America/Indiana/Indianapolis:20240714T183000
DTEND;TZID=America/Indiana/Indianapolis:20240714T200000
DTSTAMP:20260424T190224
CREATED:20240630T144428Z
LAST-MODIFIED:20240630T144428Z
UID:3726-1720981800-1720987200@freedomnazarene.org
SUMMARY:Church Board Meeting
DESCRIPTION: 
URL:https://freedomnazarene.org/event/church-board-meeting-202407/
LOCATION:Freedom Church of the Nazarene\, 5505 Jefferson Street\, Freedom\, IN\, 47431\, United States
CATEGORIES:Church Board
END:VEVENT
BEGIN:VEVENT
DTSTART;TZID=America/Indiana/Indianapolis:20240706T080000
DTEND;TZID=America/Indiana/Indianapolis:20240706T093000
DTSTAMP:20260424T190224
CREATED:20240609T144029Z
LAST-MODIFIED:20240609T144029Z
UID:3717-1720252800-1720258200@freedomnazarene.org
SUMMARY:Men's Breakfast
DESCRIPTION:Join us the first Saturday of each month for good food and fellowship—and bring a friend!\n(This is a pitch-in breakfast.)
URL:https://freedomnazarene.org/event/mens-breakfast-202407/
LOCATION:Family Life Center\, 5504 Jefferson Street\, Freedom\, IN\, 47431\, United States
END:VEVENT
BEGIN:VEVENT
DTSTART;TZID=America/Indiana/Indianapolis:20240624T183000
DTEND;TZID=America/Indiana/Indianapolis:20240624T200000
DTSTAMP:20260424T190224
CREATED:20240609T143708Z
LAST-MODIFIED:20240609T143708Z
UID:3713-1719253800-1719259200@freedomnazarene.org
SUMMARY:Ladies' Night
DESCRIPTION:
URL:https://freedomnazarene.org/event/ladies-night-202406/
LOCATION:Family Life Center\, 5504 Jefferson Street\, Freedom\, IN\, 47431\, United States
ATTACH;FMTTYPE=image/png:https://freedomnazarene.org/wp-content/uploads/2024/04/Ladies-Night-202406.png
END:VEVENT
BEGIN:VEVENT
DTSTART;TZID=America/Indiana/Indianapolis:20240623T183000
DTEND;TZID=America/Indiana/Indianapolis:20240623T200000
DTSTAMP:20260424T190224
CREATED:20240609T143511Z
LAST-MODIFIED:20240609T143511Z
UID:3711-1719167400-1719172800@freedomnazarene.org
SUMMARY:Church Board Meeting
DESCRIPTION: 
URL:https://freedomnazarene.org/event/church-board-meeting-202406/
LOCATION:Freedom Church of the Nazarene\, 5505 Jefferson Street\, Freedom\, IN\, 47431\, United States
CATEGORIES:Church Board
END:VEVENT
BEGIN:VEVENT
DTSTART;TZID=America/Indiana/Indianapolis:20240620T180000
DTEND;TZID=America/Indiana/Indianapolis:20240620T201500
DTSTAMP:20260424T190224
CREATED:20240422T232559Z
LAST-MODIFIED:20240423T000046Z
UID:3676-1718906400-1718914500@freedomnazarene.org
SUMMARY:Vacation Bible School
DESCRIPTION:Vacation Bible School: River Rafting Adventure \nJune 17-20\n\nParents\, send your kids on a Vacation Bible School (VBS) river rafting adventure! As we travel down the river and through the book of Acts\, we’ll experience God’s love alongside the earliest Christians. Children will learn that we can plant the Good News wherever we go. VBS is filled with awesome Bible-learning experiences\, creative crafts\, team-building games\, unforgettable Bible songs\, and tasty treats. Since everything is hands-on\, kids might get a little messy. Be sure to send them in play clothes and sturdy shoes. \nThe fun starts at 6:00 p.m. and ends around 8:15 p.m. each evening. This program is designed for children age 3 through Grade 6 (grade just completed). \n\nRegister your child: https://vbsmate.com/events/FreedomNazarene/28712
URL:https://freedomnazarene.org/event/vacation-bible-school-2024-04/
LOCATION:Freedom Church of the Nazarene\, 5505 Jefferson Street\, Freedom\, IN\, 47431\, United States
ATTACH;FMTTYPE=image/png:https://freedomnazarene.org/wp-content/uploads/2024/04/VBS-RiverRafting-Newsletter.png
END:VEVENT
BEGIN:VEVENT
DTSTART;TZID=America/Indiana/Indianapolis:20240619T180000
DTEND;TZID=America/Indiana/Indianapolis:20240619T201500
DTSTAMP:20260424T190224
CREATED:20240422T232509Z
LAST-MODIFIED:20240423T000028Z
UID:3674-1718820000-1718828100@freedomnazarene.org
SUMMARY:Vacation Bible School
DESCRIPTION:Vacation Bible School: River Rafting Adventure \nJune 17-20\n\nParents\, send your kids on a Vacation Bible School (VBS) river rafting adventure! As we travel down the river and through the book of Acts\, we’ll experience God’s love alongside the earliest Christians. Children will learn that we can plant the Good News wherever we go. VBS is filled with awesome Bible-learning experiences\, creative crafts\, team-building games\, unforgettable Bible songs\, and tasty treats. Since everything is hands-on\, kids might get a little messy. Be sure to send them in play clothes and sturdy shoes. \nThe fun starts at 6:00 p.m. and ends around 8:15 p.m. each evening. This program is designed for children age 3 through Grade 6 (grade just completed). \n\nRegister your child: https://vbsmate.com/events/FreedomNazarene/28712
URL:https://freedomnazarene.org/event/vacation-bible-school-2024-03/
LOCATION:Freedom Church of the Nazarene\, 5505 Jefferson Street\, Freedom\, IN\, 47431\, United States
ATTACH;FMTTYPE=image/png:https://freedomnazarene.org/wp-content/uploads/2024/04/VBS-RiverRafting-Newsletter.png
END:VEVENT
BEGIN:VEVENT
DTSTART;TZID=America/Indiana/Indianapolis:20240618T180000
DTEND;TZID=America/Indiana/Indianapolis:20240618T201500
DTSTAMP:20260424T190224
CREATED:20240422T232438Z
LAST-MODIFIED:20240423T000010Z
UID:3672-1718733600-1718741700@freedomnazarene.org
SUMMARY:Vacation Bible School
DESCRIPTION:Vacation Bible School: River Rafting Adventure \nJune 17-20\n\nParents\, send your kids on a Vacation Bible School (VBS) river rafting adventure! As we travel down the river and through the book of Acts\, we’ll experience God’s love alongside the earliest Christians. Children will learn that we can plant the Good News wherever we go. VBS is filled with awesome Bible-learning experiences\, creative crafts\, team-building games\, unforgettable Bible songs\, and tasty treats. Since everything is hands-on\, kids might get a little messy. Be sure to send them in play clothes and sturdy shoes. \nThe fun starts at 6:00 p.m. and ends around 8:15 p.m. each evening. This program is designed for children age 3 through Grade 6 (grade just completed). \n\nRegister your child: https://vbsmate.com/events/FreedomNazarene/28712
URL:https://freedomnazarene.org/event/vacation-bible-school-2024-02/
LOCATION:Freedom Church of the Nazarene\, 5505 Jefferson Street\, Freedom\, IN\, 47431\, United States
ATTACH;FMTTYPE=image/png:https://freedomnazarene.org/wp-content/uploads/2024/04/VBS-RiverRafting-Newsletter.png
END:VEVENT
BEGIN:VEVENT
DTSTART;TZID=America/Indiana/Indianapolis:20240617T180000
DTEND;TZID=America/Indiana/Indianapolis:20240617T201500
DTSTAMP:20260424T190224
CREATED:20240422T232341Z
LAST-MODIFIED:20240422T235750Z
UID:3670-1718647200-1718655300@freedomnazarene.org
SUMMARY:Vacation Bible School
DESCRIPTION:Vacation Bible School: River Rafting Adventure \nJune 17-20\n\nParents\, send your kids on a Vacation Bible School (VBS) river rafting adventure! As we travel down the river and through the book of Acts\, we’ll experience God’s love alongside the earliest Christians. Children will learn that we can plant the Good News wherever we go. VBS is filled with awesome Bible-learning experiences\, creative crafts\, team-building games\, unforgettable Bible songs\, and tasty treats. Since everything is hands-on\, kids might get a little messy. Be sure to send them in play clothes and sturdy shoes. \nThe fun starts at 6:00 p.m. and ends around 8:15 p.m. each evening. This program is designed for children age 3 through Grade 6 (grade just completed). \n\nRegister your child: https://vbsmate.com/events/FreedomNazarene/28712
URL:https://freedomnazarene.org/event/vacation-bible-school-2024-01/
LOCATION:Freedom Church of the Nazarene\, 5505 Jefferson Street\, Freedom\, IN\, 47431\, United States
ATTACH;FMTTYPE=image/png:https://freedomnazarene.org/wp-content/uploads/2024/04/VBS-RiverRafting-Newsletter.png
END:VEVENT
BEGIN:VEVENT
DTSTART;TZID=America/Indiana/Indianapolis:20240520T183000
DTEND;TZID=America/Indiana/Indianapolis:20240520T200000
DTSTAMP:20260424T190224
CREATED:20240423T000605Z
LAST-MODIFIED:20240423T000605Z
UID:3687-1716229800-1716235200@freedomnazarene.org
SUMMARY:Ladies' Night
DESCRIPTION:
URL:https://freedomnazarene.org/event/ladies-night-202405/
LOCATION:Family Life Center\, 5504 Jefferson Street\, Freedom\, IN\, 47431\, United States
END:VEVENT
BEGIN:VEVENT
DTSTART;TZID=America/Indiana/Indianapolis:20240519T183000
DTEND;TZID=America/Indiana/Indianapolis:20240519T200000
DTSTAMP:20260424T190224
CREATED:20240423T000703Z
LAST-MODIFIED:20240423T000703Z
UID:3689-1716143400-1716148800@freedomnazarene.org
SUMMARY:Church Board Meeting
DESCRIPTION: 
URL:https://freedomnazarene.org/event/church-board-meeting-202405/
LOCATION:Freedom Church of the Nazarene\, 5505 Jefferson Street\, Freedom\, IN\, 47431\, United States
CATEGORIES:Church Board
END:VEVENT
BEGIN:VEVENT
DTSTART;TZID=America/Indiana/Indianapolis:20240504T080000
DTEND;TZID=America/Indiana/Indianapolis:20240504T093000
DTSTAMP:20260424T190224
CREATED:20240422T233030Z
LAST-MODIFIED:20240422T235706Z
UID:3680-1714809600-1714815000@freedomnazarene.org
SUMMARY:Men's Breakfast
DESCRIPTION:Join us the first Saturday of each month for good food and fellowship—and bring a friend!\n(This is a pitch-in breakfast.)
URL:https://freedomnazarene.org/event/mens-breakfast-202405/
LOCATION:Family Life Center\, 5504 Jefferson Street\, Freedom\, IN\, 47431\, United States
END:VEVENT
BEGIN:VEVENT
DTSTART;TZID=America/Indiana/Indianapolis:20240428T120000
DTEND;TZID=America/Indiana/Indianapolis:20240428T133000
DTSTAMP:20260424T190224
CREATED:20240225T154234Z
LAST-MODIFIED:20240428T145408Z
UID:3616-1714305600-1714311000@freedomnazarene.org
SUMMARY:Church Dinner
DESCRIPTION:
URL:https://freedomnazarene.org/event/church-dinner-202404/
LOCATION:Family Life Center\, 5504 Jefferson Street\, Freedom\, IN\, 47431\, United States
CATEGORIES:Canceled
END:VEVENT
BEGIN:VEVENT
DTSTART;TZID=America/Indiana/Indianapolis:20240427T103000
DTEND;TZID=America/Indiana/Indianapolis:20240427T123000
DTSTAMP:20260424T190224
CREATED:20240330T171749Z
LAST-MODIFIED:20240330T171749Z
UID:3659-1714213800-1714221000@freedomnazarene.org
SUMMARY:New Beginnings Pregnancy Resource Center Tea & Bazaar
DESCRIPTION:Location: \nChristian Life Center \n157 Montgomery St \nSpencer\, IN 47460
URL:https://freedomnazarene.org/event/new-beginnings-pregnancy-resource-center-tea-bazaar/
LOCATION:IN
ATTACH;FMTTYPE=image/jpeg:https://freedomnazarene.org/wp-content/uploads/2024/03/20240330_1003263021881919226345690.jpg
END:VEVENT
BEGIN:VEVENT
DTSTART;TZID=America/Indiana/Indianapolis:20240415T183000
DTEND;TZID=America/Indiana/Indianapolis:20240415T200000
DTSTAMP:20260424T190224
CREATED:20240225T154331Z
LAST-MODIFIED:20240225T154331Z
UID:3619-1713205800-1713211200@freedomnazarene.org
SUMMARY:Ladies' Night
DESCRIPTION:
URL:https://freedomnazarene.org/event/ladies-night-202404/
LOCATION:Family Life Center\, 5504 Jefferson Street\, Freedom\, IN\, 47431\, United States
END:VEVENT
BEGIN:VEVENT
DTSTART;TZID=America/Indiana/Indianapolis:20240414T183000
DTEND;TZID=America/Indiana/Indianapolis:20240414T200000
DTSTAMP:20260424T190224
CREATED:20240324T154937Z
LAST-MODIFIED:20240324T154937Z
UID:3651-1713119400-1713124800@freedomnazarene.org
SUMMARY:Church Board Meeting
DESCRIPTION: 
URL:https://freedomnazarene.org/event/church-board-meeting-202404/
LOCATION:Freedom Church of the Nazarene\, 5505 Jefferson Street\, Freedom\, IN\, 47431\, United States
CATEGORIES:Church Board
END:VEVENT
BEGIN:VEVENT
DTSTART;TZID=America/Indiana/Indianapolis:20240406T080000
DTEND;TZID=America/Indiana/Indianapolis:20240406T093000
DTSTAMP:20260424T190224
CREATED:20240225T154307Z
LAST-MODIFIED:20240225T154307Z
UID:3618-1712390400-1712395800@freedomnazarene.org
SUMMARY:Men's Breakfast
DESCRIPTION:Join us the first Saturday of each month for good food and fellowship—and bring a friend!\n(This is a pitch-in breakfast.)
URL:https://freedomnazarene.org/event/mens-breakfast-202404/
LOCATION:Family Life Center\, 5504 Jefferson Street\, Freedom\, IN\, 47431\, United States
END:VEVENT
BEGIN:VEVENT
DTSTART;TZID=America/Indiana/Indianapolis:20240331T080000
DTEND;TZID=America/Indiana/Indianapolis:20240331T210000
DTSTAMP:20260424T190224
CREATED:20240225T194819Z
LAST-MODIFIED:20240225T194819Z
UID:3627-1711872000-1711918800@freedomnazarene.org
SUMMARY:Easter Breakfast
DESCRIPTION:A pitch-in breakfast will be held in the Family Life Center directly after the Easter sunrise service.
URL:https://freedomnazarene.org/event/easter-breakfast-2024/
LOCATION:Family Life Center\, 5504 Jefferson Street\, Freedom\, IN\, 47431\, United States
ATTACH;FMTTYPE=image/webp:https://freedomnazarene.org/wp-content/uploads/2023/04/Easter-Services-2023.webp
END:VEVENT
BEGIN:VEVENT
DTSTART;TZID=America/Indiana/Indianapolis:20240331T070000
DTEND;TZID=America/Indiana/Indianapolis:20240331T080000
DTSTAMP:20260424T190224
CREATED:20230320T110029Z
LAST-MODIFIED:20240225T194844Z
UID:1130-1711868400-1711872000@freedomnazarene.org
SUMMARY:Easter Sunrise Service
DESCRIPTION:Easter Sunrise Service will be held at the Freedom Church of the Nazarene on March 31\, 2024 at 7:00 a.m.  A pitch-in breakfast will follow the service.
URL:https://freedomnazarene.org/event/easter-sunrise-service/
LOCATION:Freedom Church of the Nazarene\, 5505 Jefferson Street\, Freedom\, IN\, 47431\, United States
ATTACH;FMTTYPE=image/jpeg:https://freedomnazarene.org/wp-content/uploads/2021/03/Resurrection.jpg
END:VEVENT
BEGIN:VEVENT
DTSTART;VALUE=DATE:20240331
DTEND;VALUE=DATE:20240401
DTSTAMP:20260424T190224
CREATED:20240225T060025Z
LAST-MODIFIED:20240225T195228Z
UID:540-1711843200-1711929599@freedomnazarene.org
SUMMARY:Easter
DESCRIPTION:
URL:https://freedomnazarene.org/event/easter/
LOCATION:IN
ATTACH;FMTTYPE=image/jpeg:https://freedomnazarene.org/wp-content/uploads/2017/10/Cross-Original.jpg
END:VEVENT
BEGIN:VEVENT
DTSTART;TZID=America/Indiana/Indianapolis:20240329T190000
DTEND;TZID=America/Indiana/Indianapolis:20240329T200000
DTSTAMP:20260424T190224
CREATED:20240225T193049Z
LAST-MODIFIED:20240225T195055Z
UID:1128-1711738800-1711742400@freedomnazarene.org
SUMMARY:Good Friday Service
DESCRIPTION:Good Friday service will be held at the Freedom Baptist Church on March 29\, 2024 at 7:00 p.m.
URL:https://freedomnazarene.org/event/good-friday-service/
LOCATION:Freedom Baptist Church\, 5773 Main Street\, Freedom\, IN\, 47431\, United States
ATTACH;FMTTYPE=image/jpeg:https://freedomnazarene.org/wp-content/uploads/2021/03/Crosses.jpg
END:VEVENT
BEGIN:VEVENT
DTSTART;TZID=America/Indiana/Indianapolis:20240328T183000
DTEND;TZID=America/Indiana/Indianapolis:20240328T193000
DTSTAMP:20260424T190224
CREATED:20240225T193018Z
LAST-MODIFIED:20240324T143336Z
UID:1126-1711650600-1711654200@freedomnazarene.org
SUMMARY:Maundy Thursday Service
DESCRIPTION:Maundy Thursday service will be held at the Freedom United Methodist Church on March 28\, 2024 at 6:30 p.m.
URL:https://freedomnazarene.org/event/maundy-thursday-service/
LOCATION:Freedom United Methodist Church\, 5363 Limestone Street\, Freedom\, IN\, 47431\, United States
ATTACH;FMTTYPE=image/jpeg:https://freedomnazarene.org/wp-content/uploads/2021/03/Last-Supper.jpg
END:VEVENT
BEGIN:VEVENT
DTSTART;VALUE=DATE:20240324
DTEND;VALUE=DATE:20240325
DTSTAMP:20260424T190224
CREATED:20240225T060038Z
LAST-MODIFIED:20240225T195256Z
UID:2893-1711238400-1711324799@freedomnazarene.org
SUMMARY:Palm Sunday
DESCRIPTION:
URL:https://freedomnazarene.org/event/palm-sunday/
LOCATION:IN
ATTACH;FMTTYPE=image/jpeg:https://freedomnazarene.org/wp-content/uploads/2021/03/Palm-Sunday-Original-scaled.jpg
END:VEVENT
BEGIN:VEVENT
DTSTART;TZID=America/Indiana/Indianapolis:20240318T183000
DTEND;TZID=America/Indiana/Indianapolis:20240318T200000
DTSTAMP:20260424T190224
CREATED:20240225T154155Z
LAST-MODIFIED:20240225T154155Z
UID:3611-1710786600-1710792000@freedomnazarene.org
SUMMARY:Ladies' Night
DESCRIPTION:
URL:https://freedomnazarene.org/event/ladies-night-202403/
LOCATION:Family Life Center\, 5504 Jefferson Street\, Freedom\, IN\, 47431\, United States
END:VEVENT
BEGIN:VEVENT
DTSTART;TZID=America/Indiana/Indianapolis:20240302T080000
DTEND;TZID=America/Indiana/Indianapolis:20240302T093000
DTSTAMP:20260424T190224
CREATED:20240225T154133Z
LAST-MODIFIED:20240225T154133Z
UID:3610-1709366400-1709371800@freedomnazarene.org
SUMMARY:Men's Breakfast
DESCRIPTION:Join us the first Saturday of each month for good food and fellowship—and bring a friend!\n(This is a pitch-in breakfast.)
URL:https://freedomnazarene.org/event/mens-breakfast-202403/
LOCATION:Family Life Center\, 5504 Jefferson Street\, Freedom\, IN\, 47431\, United States
END:VEVENT
BEGIN:VEVENT
DTSTART;TZID=America/Indiana/Indianapolis:20240225T120000
DTEND;TZID=America/Indiana/Indianapolis:20240225T133000
DTSTAMP:20260424T190224
CREATED:20240105T112822Z
LAST-MODIFIED:20240105T112822Z
UID:3574-1708862400-1708867800@freedomnazarene.org
SUMMARY:Church Dinner
DESCRIPTION:
URL:https://freedomnazarene.org/event/church-dinner-202402/
LOCATION:Family Life Center\, 5504 Jefferson Street\, Freedom\, IN\, 47431\, United States
END:VEVENT
END:VCALENDAR